BEGIN:VCALENDAR
VERSION:2.0
PRODID:-//99.86.230.124//NONSGML kigkonsult.se iCalcreator 2.26.9//
CALSCALE:GREGORIAN
METHOD:PUBLISH
X-WR-CALNAME:NM Commission for Deaf and Hard of Hearing
X-WR-CALDESC:Providing effective leadership\, education\, advocacy and prog
 rams to reduce barriers to the social\, economic\, educational\, cultural 
 and intellectual well-being of Deaf and Hard of Hearing New Mexicans and t
 heir families\, friends and colleagues.
X-FROM-URL:https://www.cdhh.state.nm.us
X-WR-TIMEZONE:America/Denver
BEGIN:VTIMEZONE
TZID:America/Denver
X-LIC-LOCATION:America/Denver
BEGIN:STANDARD
DTSTART:20201101T020000
TZOFFSETFROM:-0600
TZOFFSETTO:-0700
RDATE:20211107T020000,20221106T020000
TZNAME:MST
END:STANDARD
BEGIN:DAYLIGHT
DTSTART:20210314T020000
TZOFFSETFROM:-0700
TZOFFSETTO:-0600
RDATE:20220313T020000
TZNAME:MDT
END:DAYLIGHT
END:VTIMEZONE
BEGIN:VEVENT
UID:ai1ec-1637@www.cdhh.state.nm.us
DTSTAMP:20210509T001525Z
CATEGORIES:
CONTACT:https://www.hearinglossabq.org/
DESCRIPTION:<div class='et-l et-l--post'>\n			<div class='et_builder_inner_con
 tent et_pb_gutters3'>\n		<p>Loop People\, Loop Places Speaker: Ginevra Ralph
 . Ginevra graduated from the University of Oregon with degrees in history 
 and special education. She has been a disability rights advocate since the
  1960’s and has taught students with profound cognitive and physical disab
 ilities. In 2020 Ginevra received the 2020 HLAA “Get in the Hearing Loop” 
 award. Ginevra will be following up on last month’s presentation given by 
 Juliëtte Sterkens. February’s meeting will focus on the need for multiple 
 additional strategies to enhance a hearing aid/ cochlear implants natural 
 limitation. The presentation will also include how to take control of hear
 ing better in our daily lives by using a personal hearing loop. Portable l
 oops dramatically increase effective loop advocacy by instantly expanding 
 the number and variety of places that are looped\, as well as providing co
 mmunity outreach and education in an easy way. Ginevra will also be joined
  by Sue Prichard\, Chair of the Loop Lane County Committee\, who uses a pe
 rsonal loop daily.</p>\n<p>Zoom Link for February 20:  <a href='https://us
 02web.zoom.us/j/89211721773?pwd=YUtEVmJvMFJqckRheDhUUXBxN0pEZz09'>https://
 us02web.zoom.us/j/89211721773?pwd=YUtEVmJvMFJqckRheDhUUXBxN0pEZz09</a></p>
 \n<p>See more info on the HLAA <a href='https://www.hearinglossabq.org/' t
 arget='_blank' rel='noopener'>website</a>.</p>\n\n		</div><!-- .et_builder_i
 nner_content -->\n	</div><!-- .et-l -->
DTSTART;TZID=America/Denver:20210220T100000
DTEND;TZID=America/Denver:20210220T120000
LOCATION:Zoom
SEQUENCE:0
SUMMARY:HLAA – Albuquerque Meeting
URL:https://www.cdhh.state.nm.us/event/hlaa-albuquerque-meeting/
X-COST-TYPE:free
END:VEVENT
END:VCALENDAR
