BEGIN:VCALENDAR
VERSION:2.0
PRODID:-//13.32.200.109//NONSGML kigkonsult.se iCalcreator 2.26.9//
CALSCALE:GREGORIAN
METHOD:PUBLISH
X-WR-CALNAME:NM Commission for Deaf and Hard of Hearing
X-WR-CALDESC:Providing effective leadership\, education\, advocacy and prog
 rams to reduce barriers to the social\, economic\, educational\, cultural 
 and intellectual well-being of Deaf and Hard of Hearing New Mexicans and t
 heir families\, friends and colleagues.
X-FROM-URL:https://www.cdhh.state.nm.us
X-WR-TIMEZONE:America/Denver
BEGIN:VTIMEZONE
TZID:America/Denver
X-LIC-LOCATION:America/Denver
BEGIN:STANDARD
DTSTART:20201101T020000
TZOFFSETFROM:-0600
TZOFFSETTO:-0700
RDATE:20211107T020000,20221106T020000
TZNAME:MST
END:STANDARD
BEGIN:DAYLIGHT
DTSTART:20210314T020000
TZOFFSETFROM:-0700
TZOFFSETTO:-0600
RDATE:20220313T020000
TZNAME:MDT
END:DAYLIGHT
END:VTIMEZONE
BEGIN:VEVENT
UID:ai1ec-1738@www.cdhh.state.nm.us
DTSTAMP:20210509T001712Z
CATEGORIES:
CONTACT:
DESCRIPTION:<div class='et-l et-l--post'>\n			<div class='et_builder_inner_con
 tent et_pb_gutters3'>\n		<p>The New Mexico Signed Language Interpreting Prac
 tices Board will convene a regular meeting on Monday\, March 8\, 2021. The
  meeting will begin at 9:00 a.m. and will be held via Cisco Webex Meetings
 .</p>\n<p>Cisco Webex Meetings Link: <a href='https://nmrld.webex.com/nmrl
 d/onstage/g.php?MTID=e6adddd075f47ceee521eb8bfffb3b7ea'>https://nmrld.webe
 x.com/nmrld/onstage/g.php?MTID=e6adddd075f47ceee521eb8bfffb3b7ea</a></p>\n
 <p>Meeting Number (Access Code): 187 903 5320</p>\n<p>Join by Phone: Phone
  Number: 1-415-655-0002 United State Toll</p>\n<p>The agenda will be poste
 d and available at least 72 hours before the meeting on the Board’s <a hre
 f='http://www.rld.state.nm.us/boards/Signed_Language_Interpreting_Practice
 s_Members_and_Meetings.aspx'>website.</a> Copies may also be obtained by c
 ontacting Theresa Montoya\, Board Administrator at (505) 476-4622.</p>\n<p
 >An individual with a disability who needs a reader\, amplifier\, qualifie
 d signed language interpreter\, or other form of auxiliary aid or service 
 to attend or participate in the meeting should contact Theresa Montoya\, B
 oard Administrator at (505) 476-4622.</p>\n\n		</div><!-- .et_builder_inner_
 content -->\n	</div><!-- .et-l -->
DTSTART;TZID=America/Denver:20210308T090000
DTEND;TZID=America/Denver:20210308T130000
SEQUENCE:0
SUMMARY:Signed Language Interpreting Practices Board Meeting
URL:https://www.cdhh.state.nm.us/event/signed-language-interpreting-practic
 es-board-meeting/
X-COST-TYPE:free
END:VEVENT
END:VCALENDAR
