BEGIN:VCALENDAR
VERSION:2.0
PRODID:-//99.86.230.73//NONSGML kigkonsult.se iCalcreator 2.26.9//
CALSCALE:GREGORIAN
METHOD:PUBLISH
X-WR-CALNAME:NM Commission for Deaf and Hard of Hearing
X-WR-CALDESC:Providing effective leadership\, education\, advocacy and prog
 rams to reduce barriers to the social\, economic\, educational\, cultural 
 and intellectual well-being of Deaf and Hard of Hearing New Mexicans and t
 heir families\, friends and colleagues.
X-FROM-URL:https://www.cdhh.state.nm.us
X-WR-TIMEZONE:America/Denver
BEGIN:VTIMEZONE
TZID:America/Denver
X-LIC-LOCATION:America/Denver
BEGIN:STANDARD
DTSTART:20201101T020000
TZOFFSETFROM:-0600
TZOFFSETTO:-0700
RDATE:20211107T020000,20221106T020000
TZNAME:MST
END:STANDARD
BEGIN:DAYLIGHT
DTSTART:20210314T020000
TZOFFSETFROM:-0700
TZOFFSETTO:-0600
RDATE:20220313T020000
TZNAME:MDT
END:DAYLIGHT
END:VTIMEZONE
BEGIN:VEVENT
UID:ai1ec-887@www.cdhh.state.nm.us
DTSTAMP:20210509T001747Z
CATEGORIES:
CONTACT:
DESCRIPTION:<div class='et-l et-l--post'>\n			<div class='et_builder_inner_con
 tent et_pb_gutters3'>\n		<p>The public can watch the meeting livestream on Y
 ouTube:  <a role='link' href='https://youtu.be/orHTQqoyVD4' target='_blank
 ' rel='noopener noreferrer'>https://youtu.be/orHTQqoyVD4</a></p>\n\n		</div>
 <!-- .et_builder_inner_content -->\n	</div><!-- .et-l -->
DTSTART;TZID=America/Denver:20210311T150000
DTEND;TZID=America/Denver:20210311T170000
SEQUENCE:0
SUMMARY:NMCDHH Board Meeting
URL:https://www.cdhh.state.nm.us/event/nmcdhh-board-meeting/
X-COST-TYPE:free
END:VEVENT
END:VCALENDAR
