BEGIN:VCALENDAR
VERSION:2.0
PRODID:-//13.32.200.27//NONSGML kigkonsult.se iCalcreator 2.26.9//
CALSCALE:GREGORIAN
METHOD:PUBLISH
X-WR-CALNAME:NM Commission for Deaf and Hard of Hearing
X-WR-CALDESC:Providing effective leadership\, education\, advocacy and prog
 rams to reduce barriers to the social\, economic\, educational\, cultural 
 and intellectual well-being of Deaf and Hard of Hearing New Mexicans and t
 heir families\, friends and colleagues.
X-FROM-URL:https://www.cdhh.state.nm.us
X-WR-TIMEZONE:America/Denver
BEGIN:VTIMEZONE
TZID:America/Denver
X-LIC-LOCATION:America/Denver
BEGIN:STANDARD
DTSTART:20201101T020000
TZOFFSETFROM:-0600
TZOFFSETTO:-0700
RDATE:20211107T020000,20221106T020000
TZNAME:MST
END:STANDARD
BEGIN:DAYLIGHT
DTSTART:20210314T020000
TZOFFSETFROM:-0700
TZOFFSETTO:-0600
RDATE:20220313T020000
TZNAME:MDT
END:DAYLIGHT
END:VTIMEZONE
BEGIN:VEVENT
UID:ai1ec-898@www.cdhh.state.nm.us
DTSTAMP:20210509T001459Z
CATEGORIES:
CONTACT:
DESCRIPTION:
DTSTART;VALUE=DATE:20211231
DTEND;VALUE=DATE:20220101
SEQUENCE:0
SUMMARY:NMCDHH Offices Closed – New Year’s
URL:https://www.cdhh.state.nm.us/event/nmcdhh-offices-closed-9/
X-COST-TYPE:free
X-ALT-DESC;FMTTYPE=text/html:<!DOCTYPE HTML PUBLIC '-//W3C//DTD HTML 3.2//E
 N'>\\n<HTML>\\n<HEAD>\\n<TITLE></TITLE>\\n</HEAD>\\n<BODY><div class='et-l
  et-l--post'>\n			<div class='et_builder_inner_content et_pb_gutters3'>\n		\n		</
 div><!-- .et_builder_inner_content -->\n	</div><!-- .et-l -->\n	</BODY></HTM
 L>
END:VEVENT
END:VCALENDAR
